
BEGIN:VCALENDAR
VERSION:2.0
PRODID:-//Handel &amp; Industrie Werkt - ECPv6.15.17//NONSGML v1.0//EN
CALSCALE:GREGORIAN
METHOD:PUBLISH
X-WR-CALNAME:Handel &amp; Industrie Werkt
X-ORIGINAL-URL:https://www.hiw.be
X-WR-CALDESC:Events voor Handel &amp; Industrie Werkt
REFRESH-INTERVAL;VALUE=DURATION:PT1H
X-Robots-Tag:noindex
X-PUBLISHED-TTL:PT1H
BEGIN:VTIMEZONE
TZID:Europe/Brussels
BEGIN:DAYLIGHT
TZOFFSETFROM:+0100
TZOFFSETTO:+0200
TZNAME:CEST
DTSTART:20250330T010000
END:DAYLIGHT
BEGIN:STANDARD
TZOFFSETFROM:+0200
TZOFFSETTO:+0100
TZNAME:CET
DTSTART:20251026T010000
END:STANDARD
BEGIN:DAYLIGHT
TZOFFSETFROM:+0100
TZOFFSETTO:+0200
TZNAME:CEST
DTSTART:20260329T010000
END:DAYLIGHT
BEGIN:STANDARD
TZOFFSETFROM:+0200
TZOFFSETTO:+0100
TZNAME:CET
DTSTART:20261025T010000
END:STANDARD
BEGIN:DAYLIGHT
TZOFFSETFROM:+0100
TZOFFSETTO:+0200
TZNAME:CEST
DTSTART:20270328T010000
END:DAYLIGHT
BEGIN:STANDARD
TZOFFSETFROM:+0200
TZOFFSETTO:+0100
TZNAME:CET
DTSTART:20271031T010000
END:STANDARD
END:VTIMEZONE
BEGIN:VEVENT
DTSTART;TZID=Europe/Brussels:20260317T120000
DTEND;TZID=Europe/Brussels:20260317T140000
DTSTAMP:20260421T030801
CREATED:20260212T132337Z
LAST-MODIFIED:20260220T144653Z
UID:433-1773748800-1773756000@www.hiw.be
SUMMARY:HIW Netwerklunch 17-03-2026
DESCRIPTION:Maak kennis met ondernemers uit Wilrijk\, Aartselaar en Hoboken op dinsdag 17 maart 2026 12u-14u \nHIW NETWERKLUNCH \nOp dinsdag 17 maart zijn we te gast bij restaurant FoodConcept 42\, Kontichsesteenweg 42\, 2630 Aartselaar. \nHet aperitief wordt stipt om 12 u geserveerd en we sluiten af om 14u. \nGeniet van een lunch waarbij u na ieder gerecht van tafel wisselt om in een ontspannen sfeer te netwerken en ervaringen te delen. \n🔎 Wat mag je verwachten?\n✅ 12 u Apéro\n✅ 12u15 -14u Lunch\n✅ Drinks\, lunch & netwerking\n📅 Wanneer? Dinsdag 17 maart | 12u00 – 14u00\n📍 Waar? FoodConcept 42\, Kontichsesteenweg 42\, 2630 Aartselaar\n🎟️ Prijs € 60 (excl. Btw) voor leden\, € 75 niet leden \nInschrijven is verplicht! Graag uw keuze vermelden bij de inschrijving \nOpgelet: no show na inschrijving=still pay \n\nWij verwelkomen u met een glaasje Cava / mocktail / pils of frisdrank \n2 amuses van de Chef \nVoorgerecht\nWitloofsoepje met wilde champignons en croûtons\nof\nKroketje van scampi met een tartaar van tomaat \nHoofdgerecht\nZwaardvisfilet met gestoofde prei\, duchesse en een botersaus\nof\nVarkensmignonette met gestoofde wortel\, jus en gratin dauphinois \nDessert\nCrème Brûlée \nTijdens het diner voorzien wij op de tafel:\nChaudfontaine water (plat / bruisend)\nWitte & rode huiswijn\nKoffie / Thee bij het dessert
URL:https://www.hiw.be/evenement/hiw-lunch-bij-food-concept-42-aartselaar/
LOCATION:Food Concept 42 Aartselaar\, Kontichsesteenweg 42\, Aartselaar\, 2630\, Belgium
ATTACH;FMTTYPE=image/jpeg:https://www.hiw.be/wp-content/uploads/2026/02/1771570803674.jpg
END:VEVENT
BEGIN:VEVENT
DTSTART;TZID=Europe/Brussels:20260421T090000
DTEND;TZID=Europe/Brussels:20260421T110000
DTSTAMP:20260421T030801
CREATED:20260212T132724Z
LAST-MODIFIED:20260328T111026Z
UID:439-1776762000-1776769200@www.hiw.be
SUMMARY:Ken je gebuur - Arop
DESCRIPTION:AROP zet de deuren open op dinsdag 21 april 2026  \nKEN JE GEBUUR \nMet “Ken je gebuur” openen we telkens de deuren bij een van onze HIW-partners. Deze keer nemen we een kijkje achter de schermen bij AROP. \nWe verwelkomen u vanaf 09u met een heerlijk ontbijt\, in een warme en toegankelijke sfeer waar u meteen andere ondernemers uit de regio kan ontmoeten en waardevolle connecties kan leggen. Het einde is voorzien rond 11u. \nTijdens dit bezoek krijgt u de unieke kans om achter de schermen te kijken bij AROP\, het maatwerkbedrijf dat dagelijks het verschil maakt — zowel op sociaal vlak als in productie.  U ontdekt hoe AROP voor veel bedrijven de ontbrekende schakel vormt en organisaties versterkt in hun operationele werking\, zodat zij zich kunnen focussen op hun core business. \nVerwacht een boeiende kennismaking\, concrete inzichten én een sterk netwerkmoment. \nKom verbinden\, ontdekken en inspireren. Schrijf u vandaag nog in! \n🔎 Wat mag je verwachten? \n✅ Rondleiding bij AROP in Wilrijk \n✅ Toelichting werking maatwerkbedrijf \n✅ Ontbijt & netwerking \n  \n📅 Wanneer? Dinsdag 21 april 2026| 09u00 – 11u00 \n📍 Waar? AROP\, Dynamicalaan 9\, 2610 Wilrijk \n🎟️ Gratis\, maar inschrijven is verplicht!
URL:https://www.hiw.be/evenement/ken-je-gebuur-arop/
LOCATION:Arop\, Dynamicalaan 9\, Antwerpen\, 2610\, Belgium
ATTACH;FMTTYPE=image/png:https://www.hiw.be/wp-content/uploads/2026/02/arop.png
END:VEVENT
BEGIN:VEVENT
DTSTART;VALUE=DATE:20260501
DTEND;VALUE=DATE:20260502
DTSTAMP:20260421T030801
CREATED:20260212T133156Z
LAST-MODIFIED:20260224T110428Z
UID:442-1777593600-1777679999@www.hiw.be
SUMMARY:Teambuilding
DESCRIPTION:Datum nog te bepalen. \nMeer info volgt…
URL:https://www.hiw.be/evenement/teambuilding/
ATTACH;FMTTYPE=image/png:https://www.hiw.be/wp-content/uploads/2026/02/SAVE-THE-DATE.png
END:VEVENT
BEGIN:VEVENT
DTSTART;VALUE=DATE:20260618
DTEND;VALUE=DATE:20260619
DTSTAMP:20260421T030801
CREATED:20260212T133229Z
LAST-MODIFIED:20260213T143734Z
UID:444-1781740800-1781827199@www.hiw.be
SUMMARY:HIW Café met sprekers
DESCRIPTION:Meer info volgt…
URL:https://www.hiw.be/evenement/hiw-cafe-met-sprekers/
ATTACH;FMTTYPE=image/png:https://www.hiw.be/wp-content/uploads/2026/02/SAVE-THE-DATE.png
END:VEVENT
BEGIN:VEVENT
DTSTART;VALUE=DATE:20260918
DTEND;VALUE=DATE:20260919
DTSTAMP:20260421T030801
CREATED:20260212T133336Z
LAST-MODIFIED:20260213T143728Z
UID:447-1789689600-1789775999@www.hiw.be
SUMMARY:World Cleanup Day
DESCRIPTION:Meer info volgt…
URL:https://www.hiw.be/evenement/world-cleanup-day/
ATTACH;FMTTYPE=image/png:https://www.hiw.be/wp-content/uploads/2026/02/SAVE-THE-DATE.png
END:VEVENT
BEGIN:VEVENT
DTSTART;VALUE=DATE:20261001
DTEND;VALUE=DATE:20261002
DTSTAMP:20260421T030801
CREATED:20260212T133405Z
LAST-MODIFIED:20260213T143716Z
UID:450-1790812800-1790899199@www.hiw.be
SUMMARY:Ken je gebuur - Alternate
DESCRIPTION:Meer info volgt…
URL:https://www.hiw.be/evenement/ken-je-gebuur/
LOCATION:Alternate\, Oeyvaersbosch 16-18\, Aartselaar\, 2630\, Belgium
ATTACH;FMTTYPE=image/png:https://www.hiw.be/wp-content/uploads/2026/02/SAVE-THE-DATE.png
END:VEVENT
BEGIN:VEVENT
DTSTART;TZID=Europe/Brussels:20261117T170000
DTEND;TZID=Europe/Brussels:20261117T210000
DTSTAMP:20260421T030801
CREATED:20260212T133450Z
LAST-MODIFIED:20260213T143659Z
UID:452-1794934800-1794949200@www.hiw.be
SUMMARY:HIW After Work Café
DESCRIPTION:Meer info volgt…
URL:https://www.hiw.be/evenement/hiw-after-work-cafe/
ATTACH;FMTTYPE=image/png:https://www.hiw.be/wp-content/uploads/2026/02/SAVE-THE-DATE.png
END:VEVENT
BEGIN:VEVENT
DTSTART;VALUE=DATE:20261208
DTEND;VALUE=DATE:20261209
DTSTAMP:20260421T030801
CREATED:20260212T133518Z
LAST-MODIFIED:20260312T153808Z
UID:454-1796688000-1796774399@www.hiw.be
SUMMARY:HIW Netwerk/Kerstlunch
DESCRIPTION:Meer info volgt…
URL:https://www.hiw.be/evenement/kerstlunch/
ATTACH;FMTTYPE=image/png:https://www.hiw.be/wp-content/uploads/2026/02/SAVE-THE-DATE.png
END:VEVENT
END:VCALENDAR