
BEGIN:VCALENDAR
VERSION:2.0
PRODID:-//Handel &amp; Industrie Werkt - ECPv6.15.17//NONSGML v1.0//EN
CALSCALE:GREGORIAN
METHOD:PUBLISH
X-WR-CALNAME:Handel &amp; Industrie Werkt
X-ORIGINAL-URL:https://www.hiw.be
X-WR-CALDESC:Events voor Handel &amp; Industrie Werkt
REFRESH-INTERVAL;VALUE=DURATION:PT1H
X-Robots-Tag:noindex
X-PUBLISHED-TTL:PT1H
BEGIN:VTIMEZONE
TZID:Europe/Brussels
BEGIN:DAYLIGHT
TZOFFSETFROM:+0100
TZOFFSETTO:+0200
TZNAME:CEST
DTSTART:20240331T010000
END:DAYLIGHT
BEGIN:STANDARD
TZOFFSETFROM:+0200
TZOFFSETTO:+0100
TZNAME:CET
DTSTART:20241027T010000
END:STANDARD
BEGIN:DAYLIGHT
TZOFFSETFROM:+0100
TZOFFSETTO:+0200
TZNAME:CEST
DTSTART:20250330T010000
END:DAYLIGHT
BEGIN:STANDARD
TZOFFSETFROM:+0200
TZOFFSETTO:+0100
TZNAME:CET
DTSTART:20251026T010000
END:STANDARD
BEGIN:DAYLIGHT
TZOFFSETFROM:+0100
TZOFFSETTO:+0200
TZNAME:CEST
DTSTART:20260329T010000
END:DAYLIGHT
BEGIN:STANDARD
TZOFFSETFROM:+0200
TZOFFSETTO:+0100
TZNAME:CET
DTSTART:20261025T010000
END:STANDARD
BEGIN:DAYLIGHT
TZOFFSETFROM:+0100
TZOFFSETTO:+0200
TZNAME:CEST
DTSTART:20270328T010000
END:DAYLIGHT
BEGIN:STANDARD
TZOFFSETFROM:+0200
TZOFFSETTO:+0100
TZNAME:CET
DTSTART:20271031T010000
END:STANDARD
END:VTIMEZONE
BEGIN:VEVENT
DTSTART;TZID=Europe/Brussels:20260317T120000
DTEND;TZID=Europe/Brussels:20260317T140000
DTSTAMP:20260421T032859
CREATED:20260212T132337Z
LAST-MODIFIED:20260220T144653Z
UID:433-1773748800-1773756000@www.hiw.be
SUMMARY:HIW Netwerklunch 17-03-2026
DESCRIPTION:Maak kennis met ondernemers uit Wilrijk\, Aartselaar en Hoboken op dinsdag 17 maart 2026 12u-14u \nHIW NETWERKLUNCH \nOp dinsdag 17 maart zijn we te gast bij restaurant FoodConcept 42\, Kontichsesteenweg 42\, 2630 Aartselaar. \nHet aperitief wordt stipt om 12 u geserveerd en we sluiten af om 14u. \nGeniet van een lunch waarbij u na ieder gerecht van tafel wisselt om in een ontspannen sfeer te netwerken en ervaringen te delen. \n🔎 Wat mag je verwachten?\n✅ 12 u Apéro\n✅ 12u15 -14u Lunch\n✅ Drinks\, lunch & netwerking\n📅 Wanneer? Dinsdag 17 maart | 12u00 – 14u00\n📍 Waar? FoodConcept 42\, Kontichsesteenweg 42\, 2630 Aartselaar\n🎟️ Prijs € 60 (excl. Btw) voor leden\, € 75 niet leden \nInschrijven is verplicht! Graag uw keuze vermelden bij de inschrijving \nOpgelet: no show na inschrijving=still pay \n\nWij verwelkomen u met een glaasje Cava / mocktail / pils of frisdrank \n2 amuses van de Chef \nVoorgerecht\nWitloofsoepje met wilde champignons en croûtons\nof\nKroketje van scampi met een tartaar van tomaat \nHoofdgerecht\nZwaardvisfilet met gestoofde prei\, duchesse en een botersaus\nof\nVarkensmignonette met gestoofde wortel\, jus en gratin dauphinois \nDessert\nCrème Brûlée \nTijdens het diner voorzien wij op de tafel:\nChaudfontaine water (plat / bruisend)\nWitte & rode huiswijn\nKoffie / Thee bij het dessert
URL:https://www.hiw.be/evenement/hiw-lunch-bij-food-concept-42-aartselaar/
LOCATION:Food Concept 42 Aartselaar\, Kontichsesteenweg 42\, Aartselaar\, 2630\, Belgium
ATTACH;FMTTYPE=image/jpeg:https://www.hiw.be/wp-content/uploads/2026/02/1771570803674.jpg
END:VEVENT
BEGIN:VEVENT
DTSTART;TZID=Europe/Brussels:20251029T090000
DTEND;TZID=Europe/Brussels:20251029T120000
DTSTAMP:20260421T032859
CREATED:20251023T112029Z
LAST-MODIFIED:20251208T133526Z
UID:338-1761728400-1761739200@www.hiw.be
SUMMARY:Ken je gebuur - d'Ieteren Mobility Company
DESCRIPTION:De meer dan 30 concessies uit het netwerk van Auto Natie Group\, Brussels Auto Group\, D’Ieteren Centers en Jennes bundelen hun krachten als D’Ieteren Mobility Centers. Daar leveren we onze klanten de allerbeste service en het meest gepaste advies voor de merken Volkswagen\, Audi\, SEAT\, CUPRA\, Škoda en Volkswagen Bedrijfsvoertuigen.\nIndien je een testrit wenst\, kan je dit ingeven op het einde van de inschrijving. \nWat mag je verwachten? \n\nRondleiding in de concessie\nTestritten\nDrinks & netwerking
URL:https://www.hiw.be/evenement/dieteren-mobility-company/
LOCATION:d’Ieteren Mobility Company\, Groeningenlei 115\, Kontich\, Antwerpen\, 2550\, Belgium
CATEGORIES:Ken je gebuur
ATTACH;FMTTYPE=image/png:https://www.hiw.be/wp-content/uploads/2025/10/kjg-dieteren.png
END:VEVENT
END:VCALENDAR